BEGIN:VCALENDAR
VERSION:2.0
PRODID:-//MJCS - ECPv6.15.20//NONSGML v1.0//EN
CALSCALE:GREGORIAN
METHOD:PUBLISH
X-ORIGINAL-URL:https://mjcs.org
X-WR-CALDESC:Events for MJCS
REFRESH-INTERVAL;VALUE=DURATION:PT1H
X-Robots-Tag:noindex
X-PUBLISHED-TTL:PT1H
BEGIN:VTIMEZONE
TZID:America/Los_Angeles
BEGIN:DAYLIGHT
TZOFFSETFROM:-0800
TZOFFSETTO:-0700
TZNAME:PDT
DTSTART:20210314T100000
END:DAYLIGHT
BEGIN:STANDARD
TZOFFSETFROM:-0700
TZOFFSETTO:-0800
TZNAME:PST
DTSTART:20211107T090000
END:STANDARD
BEGIN:DAYLIGHT
TZOFFSETFROM:-0800
TZOFFSETTO:-0700
TZNAME:PDT
DTSTART:20220313T100000
END:DAYLIGHT
BEGIN:STANDARD
TZOFFSETFROM:-0700
TZOFFSETTO:-0800
TZNAME:PST
DTSTART:20221106T090000
END:STANDARD
BEGIN:DAYLIGHT
TZOFFSETFROM:-0800
TZOFFSETTO:-0700
TZNAME:PDT
DTSTART:20230312T100000
END:DAYLIGHT
BEGIN:STANDARD
TZOFFSETFROM:-0700
TZOFFSETTO:-0800
TZNAME:PST
DTSTART:20231105T090000
END:STANDARD
BEGIN:DAYLIGHT
TZOFFSETFROM:-0800
TZOFFSETTO:-0700
TZNAME:PDT
DTSTART:20240310T100000
END:DAYLIGHT
BEGIN:STANDARD
TZOFFSETFROM:-0700
TZOFFSETTO:-0800
TZNAME:PST
DTSTART:20241103T090000
END:STANDARD
END:VTIMEZONE
BEGIN:VTIMEZONE
TZID:UTC
BEGIN:STANDARD
TZOFFSETFROM:+0000
TZOFFSETTO:+0000
TZNAME:UTC
DTSTART:20210101T000000
END:STANDARD
END:VTIMEZONE
BEGIN:VEVENT
DTSTART;TZID=America/Los_Angeles:20231106T173000
DTEND;TZID=America/Los_Angeles:20231106T180000
DTSTAMP:20260422T033205
CREATED:20231019T213701Z
LAST-MODIFIED:20231019T213704Z
UID:10002304-1699291800-1699293600@mjcs.org
SUMMARY:Sisterhood Book Club
DESCRIPTION:
URL:https://mjcs.org/calendar-old/sisterhood-book-club-2/
CATEGORIES:General,Sisterhood
ATTACH;FMTTYPE=image/png:https://mjcs.org/wp-content/uploads/2023/10/Sisterhood-Bookclub-November-2023.png
END:VEVENT
BEGIN:VEVENT
DTSTART;TZID=America/Los_Angeles:20221010T183000
DTEND;TZID=America/Los_Angeles:20221010T210000
DTSTAMP:20260422T033205
CREATED:20221002T190025Z
LAST-MODIFIED:20221002T190028Z
UID:10001516-1665426600-1665435600@mjcs.org
SUMMARY:Sisterhood Bookclub in the Sukkah
DESCRIPTION:
URL:https://mjcs.org/calendar-old/sisterhood-bookclub-in-the-sukkah/
LOCATION:Malibu Jewish Center and Synagogue\, 24855 Pacific Coast Highway\, Malibu\, CA\, 90265\, United States
CATEGORIES:General,Sisterhood
ATTACH;FMTTYPE=image/png:https://mjcs.org/wp-content/uploads/2022/10/Sisters-in-the-Sukkah.png
GEO:34.0343341;-118.7175167
X-APPLE-STRUCTURED-LOCATION;VALUE=URI;X-ADDRESS=Malibu Jewish Center and Synagogue 24855 Pacific Coast Highway Malibu CA 90265 United States;X-APPLE-RADIUS=500;X-TITLE=24855 Pacific Coast Highway:geo:-118.7175167,34.0343341
END:VEVENT
BEGIN:VEVENT
DTSTART;TZID=UTC:20220718T183000
DTEND;TZID=UTC:20220718T190000
DTSTAMP:20260422T033205
CREATED:20220629T200916Z
LAST-MODIFIED:20220629T200917Z
UID:10000044-1658169000-1658170800@mjcs.org
SUMMARY:Sisterhood Book Club
DESCRIPTION:Email llwwranch@aol.com to participate
URL:https://mjcs.org/calendar-old/sisterhood-book-club/
LOCATION:Malibu Jewish Center and Synagogue\, 24855 Pacific Coast Highway\, Malibu\, CA\, 90265\, United States
CATEGORIES:General,Sisterhood
GEO:34.0343341;-118.7175167
X-APPLE-STRUCTURED-LOCATION;VALUE=URI;X-ADDRESS=Malibu Jewish Center and Synagogue 24855 Pacific Coast Highway Malibu CA 90265 United States;X-APPLE-RADIUS=500;X-TITLE=24855 Pacific Coast Highway:geo:-118.7175167,34.0343341
END:VEVENT
END:VCALENDAR