BEGIN:VCALENDAR
VERSION:2.0
PRODID:-//MJCS - ECPv6.15.20//NONSGML v1.0//EN
CALSCALE:GREGORIAN
METHOD:PUBLISH
X-ORIGINAL-URL:https://mjcs.org
X-WR-CALDESC:Events for MJCS
REFRESH-INTERVAL;VALUE=DURATION:PT1H
X-Robots-Tag:noindex
X-PUBLISHED-TTL:PT1H
BEGIN:VTIMEZONE
TZID:America/Los_Angeles
BEGIN:DAYLIGHT
TZOFFSETFROM:-0800
TZOFFSETTO:-0700
TZNAME:PDT
DTSTART:20230312T100000
END:DAYLIGHT
BEGIN:STANDARD
TZOFFSETFROM:-0700
TZOFFSETTO:-0800
TZNAME:PST
DTSTART:20231105T090000
END:STANDARD
BEGIN:DAYLIGHT
TZOFFSETFROM:-0800
TZOFFSETTO:-0700
TZNAME:PDT
DTSTART:20240310T100000
END:DAYLIGHT
BEGIN:STANDARD
TZOFFSETFROM:-0700
TZOFFSETTO:-0800
TZNAME:PST
DTSTART:20241103T090000
END:STANDARD
BEGIN:DAYLIGHT
TZOFFSETFROM:-0800
TZOFFSETTO:-0700
TZNAME:PDT
DTSTART:20250309T100000
END:DAYLIGHT
BEGIN:STANDARD
TZOFFSETFROM:-0700
TZOFFSETTO:-0800
TZNAME:PST
DTSTART:20251102T090000
END:STANDARD
BEGIN:DAYLIGHT
TZOFFSETFROM:-0800
TZOFFSETTO:-0700
TZNAME:PDT
DTSTART:20260308T100000
END:DAYLIGHT
BEGIN:STANDARD
TZOFFSETFROM:-0700
TZOFFSETTO:-0800
TZNAME:PST
DTSTART:20261101T090000
END:STANDARD
END:VTIMEZONE
BEGIN:VEVENT
DTSTART;TZID=America/Los_Angeles:20241114T073000
DTEND;TZID=America/Los_Angeles:20241114T090000
DTSTAMP:20260422T223213
CREATED:20221002T192145Z
LAST-MODIFIED:20221215T175158Z
UID:10000155-1731569400-1731574800@mjcs.org
SUMMARY:Jewish Ethics
DESCRIPTION:Via Zoom \n\n\n\nMeeting ID: 961 2562 4769\, Passcode 547376
URL:https://mjcs.org/calendar-old/jewish-ethics/2024-11-14/
LOCATION:Malibu Jewish Center and Synagogue\, 24855 Pacific Coast Highway\, Malibu\, CA\, 90265\, United States
CATEGORIES:Adult Education,General
ATTACH;FMTTYPE=image/png:https://mjcs.org/wp-content/uploads/2022/10/Jewish-Ethics.png
GEO:34.0343341;-118.7175167
X-APPLE-STRUCTURED-LOCATION;VALUE=URI;X-ADDRESS=Malibu Jewish Center and Synagogue 24855 Pacific Coast Highway Malibu CA 90265 United States;X-APPLE-RADIUS=500;X-TITLE=24855 Pacific Coast Highway:geo:-118.7175167,34.0343341
END:VEVENT
BEGIN:VEVENT
DTSTART;TZID=America/Los_Angeles:20241121T073000
DTEND;TZID=America/Los_Angeles:20241121T090000
DTSTAMP:20260422T223213
CREATED:20221002T192145Z
LAST-MODIFIED:20221215T175158Z
UID:10001645-1732174200-1732179600@mjcs.org
SUMMARY:Jewish Ethics
DESCRIPTION:Via Zoom \n\n\n\nMeeting ID: 961 2562 4769\, Passcode 547376
URL:https://mjcs.org/calendar-old/jewish-ethics/2024-11-21/
LOCATION:Malibu Jewish Center and Synagogue\, 24855 Pacific Coast Highway\, Malibu\, CA\, 90265\, United States
CATEGORIES:Adult Education,General
ATTACH;FMTTYPE=image/png:https://mjcs.org/wp-content/uploads/2022/10/Jewish-Ethics.png
GEO:34.0343341;-118.7175167
X-APPLE-STRUCTURED-LOCATION;VALUE=URI;X-ADDRESS=Malibu Jewish Center and Synagogue 24855 Pacific Coast Highway Malibu CA 90265 United States;X-APPLE-RADIUS=500;X-TITLE=24855 Pacific Coast Highway:geo:-118.7175167,34.0343341
END:VEVENT
BEGIN:VEVENT
DTSTART;TZID=America/Los_Angeles:20241128T073000
DTEND;TZID=America/Los_Angeles:20241128T090000
DTSTAMP:20260422T223213
CREATED:20221002T192145Z
LAST-MODIFIED:20221215T175158Z
UID:10001646-1732779000-1732784400@mjcs.org
SUMMARY:Jewish Ethics
DESCRIPTION:Via Zoom \n\n\n\nMeeting ID: 961 2562 4769\, Passcode 547376
URL:https://mjcs.org/calendar-old/jewish-ethics/2024-11-28/
LOCATION:Malibu Jewish Center and Synagogue\, 24855 Pacific Coast Highway\, Malibu\, CA\, 90265\, United States
CATEGORIES:Adult Education,General
ATTACH;FMTTYPE=image/png:https://mjcs.org/wp-content/uploads/2022/10/Jewish-Ethics.png
GEO:34.0343341;-118.7175167
X-APPLE-STRUCTURED-LOCATION;VALUE=URI;X-ADDRESS=Malibu Jewish Center and Synagogue 24855 Pacific Coast Highway Malibu CA 90265 United States;X-APPLE-RADIUS=500;X-TITLE=24855 Pacific Coast Highway:geo:-118.7175167,34.0343341
END:VEVENT
BEGIN:VEVENT
DTSTART;TZID=America/Los_Angeles:20241205T073000
DTEND;TZID=America/Los_Angeles:20241205T090000
DTSTAMP:20260422T223213
CREATED:20221002T192145Z
LAST-MODIFIED:20221215T175158Z
UID:10001647-1733383800-1733389200@mjcs.org
SUMMARY:Jewish Ethics
DESCRIPTION:Via Zoom \n\n\n\nMeeting ID: 961 2562 4769\, Passcode 547376
URL:https://mjcs.org/calendar-old/jewish-ethics/2024-12-05/
LOCATION:Malibu Jewish Center and Synagogue\, 24855 Pacific Coast Highway\, Malibu\, CA\, 90265\, United States
CATEGORIES:Adult Education,General
ATTACH;FMTTYPE=image/png:https://mjcs.org/wp-content/uploads/2022/10/Jewish-Ethics.png
GEO:34.0343341;-118.7175167
X-APPLE-STRUCTURED-LOCATION;VALUE=URI;X-ADDRESS=Malibu Jewish Center and Synagogue 24855 Pacific Coast Highway Malibu CA 90265 United States;X-APPLE-RADIUS=500;X-TITLE=24855 Pacific Coast Highway:geo:-118.7175167,34.0343341
END:VEVENT
BEGIN:VEVENT
DTSTART;TZID=America/Los_Angeles:20241212T073000
DTEND;TZID=America/Los_Angeles:20241212T090000
DTSTAMP:20260422T223214
CREATED:20221002T192145Z
LAST-MODIFIED:20221215T175158Z
UID:10001648-1733988600-1733994000@mjcs.org
SUMMARY:Jewish Ethics
DESCRIPTION:Via Zoom \n\n\n\nMeeting ID: 961 2562 4769\, Passcode 547376
URL:https://mjcs.org/calendar-old/jewish-ethics/2024-12-12/
LOCATION:Malibu Jewish Center and Synagogue\, 24855 Pacific Coast Highway\, Malibu\, CA\, 90265\, United States
CATEGORIES:Adult Education,General
ATTACH;FMTTYPE=image/png:https://mjcs.org/wp-content/uploads/2022/10/Jewish-Ethics.png
GEO:34.0343341;-118.7175167
X-APPLE-STRUCTURED-LOCATION;VALUE=URI;X-ADDRESS=Malibu Jewish Center and Synagogue 24855 Pacific Coast Highway Malibu CA 90265 United States;X-APPLE-RADIUS=500;X-TITLE=24855 Pacific Coast Highway:geo:-118.7175167,34.0343341
END:VEVENT
BEGIN:VEVENT
DTSTART;TZID=America/Los_Angeles:20250112T180000
DTEND;TZID=America/Los_Angeles:20250112T193000
DTSTAMP:20260422T223214
CREATED:20241230T202009Z
LAST-MODIFIED:20241230T202014Z
UID:10002495-1736704800-1736710200@mjcs.org
SUMMARY:Adult Education: Feminine Phenomena in Tanakh and Midrash Series "Unconventional Wisdom"
DESCRIPTION:Join MJCS & Rabbi Cantor Marcelo for a thought-provoking interactive workshop with Prof. Revital Somekh-Goldreich. In this Zoom-only\, 90-minute adventure\, we will explore several Tanakhic and Midrashic texts and images\, ranging from the familiar to the strange. Together\, we will co-create meaning in pursuit of intriguing and relevant insights.
URL:https://mjcs.org/calendar-old/adult-education-feminine-phenomena-in-tanakh-and-midrash-series-unconventional-wisdom/
LOCATION:CA
CATEGORIES:Adult Education,General
ATTACH;FMTTYPE=image/png:https://mjcs.org/wp-content/uploads/2024/12/Adult-Ed-Unconventional-Wisdom-Part-1.png
END:VEVENT
BEGIN:VEVENT
DTSTART;TZID=America/Los_Angeles:20250126T180000
DTEND;TZID=America/Los_Angeles:20250126T193000
DTSTAMP:20260422T223214
CREATED:20241230T202334Z
LAST-MODIFIED:20241230T202338Z
UID:10002496-1737914400-1737919800@mjcs.org
SUMMARY:Adult Education: Feminine Phenomena in Tanakh and Midrash Series: "Me Too"
DESCRIPTION:Join MJCS & Rabbi Cantor Marcelo for a thought-provoking interactive workshop with Prof. Revital Somekh-Goldreich. In this Zoom-only\, 90-minute adventure\, we will explore several Tanakhic and Midrashic texts and images\, ranging from the familiar to the strange. Together\, we will co-create meaning in pursuit of intriguing and relevant insights.
URL:https://mjcs.org/calendar-old/adult-education-feminine-phenomena-in-tanakh-and-midrash-series-me-too/
LOCATION:CA
CATEGORIES:Adult Education,General
ATTACH;FMTTYPE=image/png:https://mjcs.org/wp-content/uploads/2024/12/Adult-Ed-Unconventional-Wisdom-Part-2.png
END:VEVENT
BEGIN:VEVENT
DTSTART;TZID=America/Los_Angeles:20250201T173000
DTEND;TZID=America/Los_Angeles:20250201T190000
DTSTAMP:20260422T223214
CREATED:20241230T203056Z
LAST-MODIFIED:20241230T203059Z
UID:10002498-1738431000-1738436400@mjcs.org
SUMMARY:Havdalah & Guest Speaker
DESCRIPTION:
URL:https://mjcs.org/calendar-old/havdalah-guest-speaker/
LOCATION:CA
CATEGORIES:Adult Education,General
ATTACH;FMTTYPE=image/png:https://mjcs.org/wp-content/uploads/2024/12/Havdalah-Guest-Speaker-Michal-Schnaider-Beeri.png
END:VEVENT
END:VCALENDAR